BEGIN:VCALENDAR
VERSION:2.0
PRODID:Icfo
X-PUBLISHED-TTL:P1W
BEGIN:VEVENT
UID:69e8e28d0e2e3
DTSTART:20260608T130000Z
SEQUENCE:0
TRANSP:OPAQUE
DTEND:20260609T160000Z
LOCATION:Elements Room
SUMMARY:ICFO | CARLES PUENTE
CLASS:PUBLIC
DTSTAMP:20260422T150029Z
END:VEVENT
END:VCALENDAR