BEGIN:VCALENDAR
VERSION:2.0
PRODID:Icfo
X-PUBLISHED-TTL:P1W
BEGIN:VEVENT
UID:69e8e455e954c
DTSTART:20260625T073000Z
SEQUENCE:0
TRANSP:OPAQUE
DTEND:20260626T153000Z
LOCATION:Elements Room
SUMMARY:ICFO | GAVIN LUCAS AND MARC FONT
CLASS:PUBLIC
DTSTAMP:20260422T150805Z
END:VEVENT
END:VCALENDAR