BEGIN:VCALENDAR
VERSION:2.0
PRODID:Icfo
X-PUBLISHED-TTL:P1W
BEGIN:VEVENT
UID:69e8e1c9a0b96
DTSTART:20260213T110000Z
SEQUENCE:0
TRANSP:OPAQUE
DTEND:20260213T120000Z
LOCATION:Elements Room
SUMMARY:ICFO | REBECA RIBEIRO
CLASS:PUBLIC
DTSTAMP:20260422T145713Z
END:VEVENT
END:VCALENDAR