BEGIN:VCALENDAR
VERSION:2.0
PRODID:Icfo
X-PUBLISHED-TTL:P1W
BEGIN:VEVENT
UID:69e8e474cfa58
DTSTART:20260326T110000Z
SEQUENCE:0
TRANSP:OPAQUE
DTEND:20260326T120000Z
LOCATION:Elements Room
SUMMARY:ICFO | ANTON SOUSLOV
CLASS:PUBLIC
DTSTAMP:20260422T150836Z
END:VEVENT
END:VCALENDAR