BEGIN:VCALENDAR
VERSION:2.0
PRODID:Icfo
X-PUBLISHED-TTL:P1W
BEGIN:VEVENT
UID:69e8e38ca3fb8
DTSTART:20260129T110000Z
SEQUENCE:0
TRANSP:OPAQUE
DTEND:20260129T120000Z
LOCATION:Elements Room
SUMMARY:ICFO | ANDREAS SEIFERT
CLASS:PUBLIC
DTSTAMP:20260422T150444Z
END:VEVENT
END:VCALENDAR