BEGIN:VCALENDAR
VERSION:2.0
PRODID:Icfo
X-PUBLISHED-TTL:P1W
BEGIN:VEVENT
UID:69e8d1f5ca02a
DTSTART:20250919T083000Z
SEQUENCE:0
TRANSP:OPAQUE
DTEND:20250919T100000Z
LOCATION:ICFO Auditorium
SUMMARY:ICFO | BEYOND ICFO 2025: Financing for Early Career Researchers
CLASS:PUBLIC
DTSTAMP:20260422T134941Z
END:VEVENT
END:VCALENDAR