BEGIN:VCALENDAR
VERSION:2.0
PRODID:Icfo
X-PUBLISHED-TTL:P1W
BEGIN:VEVENT
UID:69e8e06607317
DTSTART:20250606T081500Z
SEQUENCE:0
TRANSP:OPAQUE
DTEND:20250606T101500Z
LOCATION:ICFO
SUMMARY:ICFO | TARA FORTIER
CLASS:PUBLIC
DTSTAMP:20260422T145118Z
END:VEVENT
END:VCALENDAR