BEGIN:VCALENDAR
VERSION:2.0
PRODID:Icfo
X-PUBLISHED-TTL:P1W
BEGIN:VEVENT
UID:69e8d2d3a4b4c
DTSTART:20250526T080000Z
SEQUENCE:0
TRANSP:OPAQUE
DTEND:20250603T100000Z
LOCATION:Blue Lecture Room 
SUMMARY:ICFO | SARANG GOPALAKRISHNAN
CLASS:PUBLIC
DTSTAMP:20260422T135323Z
END:VEVENT
END:VCALENDAR