BEGIN:VCALENDAR
VERSION:2.0
PRODID:Icfo
X-PUBLISHED-TTL:P1W
BEGIN:VEVENT
UID:69e8e9db2fd12
DTSTART:20250715T073000Z
SEQUENCE:0
TRANSP:OPAQUE
DTEND:20250716T153000Z
LOCATION:Elements Room
SUMMARY:ICFO | GAVIN LUCAS
CLASS:PUBLIC
DTSTAMP:20260422T153139Z
END:VEVENT
END:VCALENDAR