BEGIN:VCALENDAR
VERSION:2.0
PRODID:Icfo
X-PUBLISHED-TTL:P1W
BEGIN:VEVENT
UID:69eb91f04204c
DTSTART:20250509T073000Z
SEQUENCE:0
TRANSP:OPAQUE
DTEND:20250602T160000Z
LOCATION:Blue Lecture Room & Elements Room
SUMMARY:ICFO | JEAN-LUC DOUMONT and DENITZA DENKOVA
CLASS:PUBLIC
DTSTAMP:20260424T155320Z
END:VEVENT
END:VCALENDAR