BEGIN:VCALENDAR
VERSION:2.0
PRODID:Icfo
X-PUBLISHED-TTL:P1W
BEGIN:VEVENT
UID:69e8ed82d2f02
DTSTART;VALUE=DATE:20250407
SEQUENCE:0
TRANSP:OPAQUE
LOCATION:Elements Room
SUMMARY:ICFO | GIOVANNI VOLPE & CARLO MANZO
CLASS:PUBLIC
X-MICROSOFT-CDO-ALLDAYEVENT:TRUE
DTSTAMP:20260422T154714Z
END:VEVENT
END:VCALENDAR