BEGIN:VCALENDAR
VERSION:2.0
PRODID:Icfo
X-PUBLISHED-TTL:P1W
BEGIN:VEVENT
UID:69eb9609dadd0
DTSTART:20241128T140000Z
SEQUENCE:0
TRANSP:OPAQUE
DTEND:20241128T150000Z
LOCATION:Seminar Room
SUMMARY:ICFO | DIRK ENGLUND
CLASS:PUBLIC
DTSTAMP:20260424T161049Z
END:VEVENT
END:VCALENDAR