BEGIN:VCALENDAR
VERSION:2.0
PRODID:Icfo
X-PUBLISHED-TTL:P1W
BEGIN:VEVENT
UID:69e4dcd511a68
DTSTART:20231024T130000Z
SEQUENCE:0
TRANSP:OPAQUE
DTEND:20231024T140000Z
LOCATION:Seminar Room
SUMMARY:ICFO | ANTIA LAMAS LINARES
CLASS:PUBLIC
DTSTAMP:20260419T134701Z
END:VEVENT
END:VCALENDAR