BEGIN:VCALENDAR
VERSION:2.0
PRODID:Icfo
X-PUBLISHED-TTL:P1W
BEGIN:VEVENT
UID:69eb8020d0958
DTSTART;VALUE=DATE:20231009
SEQUENCE:0
TRANSP:OPAQUE
LOCATION:College of Science\, KNUST (Ghana)
SUMMARY:ICFO | ICFO-KNUST INTERNATIONAL SCHOOL ON THE FRONTIERS OF LIGHT. P
 hotonic Sciences: Applications and Opportunities
CLASS:PUBLIC
X-MICROSOFT-CDO-ALLDAYEVENT:TRUE
DTSTAMP:20260424T143720Z
END:VEVENT
END:VCALENDAR