BEGIN:VCALENDAR
VERSION:2.0
PRODID:Icfo
X-PUBLISHED-TTL:P1W
BEGIN:VEVENT
UID:69e4c5c252f6f
DTSTART:20230123T140000Z
SEQUENCE:0
TRANSP:OPAQUE
DTEND:20230123T150000Z
LOCATION:Seminar Room & Online
SUMMARY:ICFO | THOMAS MÜLLER
CLASS:PUBLIC
DTSTAMP:20260419T120834Z
END:VEVENT
END:VCALENDAR