BEGIN:VCALENDAR
VERSION:2.0
PRODID:Icfo
X-PUBLISHED-TTL:P1W
BEGIN:VEVENT
UID:69eb83f3a02e3
DTSTART:20230109T090000Z
SEQUENCE:0
TRANSP:OPAQUE
DTEND:20230112T120000Z
LOCATION:Blue Lecture Room and Seminar Room
SUMMARY:ICFO | EUGENE DEMLER
CLASS:PUBLIC
DTSTAMP:20260424T145339Z
END:VEVENT
END:VCALENDAR