BEGIN:VCALENDAR
VERSION:2.0
PRODID:Icfo
X-PUBLISHED-TTL:P1W
BEGIN:VEVENT
UID:69e8ee0d5742e
DTSTART:20221212T110000Z
SEQUENCE:0
TRANSP:OPAQUE
DTEND:20221212T120000Z
LOCATION:Blue Lecture Room & Online (Zoom)
SUMMARY:ICFO | MIKHAIL IVANOV
CLASS:PUBLIC
DTSTAMP:20260422T154933Z
END:VEVENT
END:VCALENDAR