BEGIN:VCALENDAR
VERSION:2.0
PRODID:Icfo
X-PUBLISHED-TTL:P1W
BEGIN:VEVENT
UID:69e8ed7c6d520
DTSTART:20221025T100000Z
SEQUENCE:0
TRANSP:OPAQUE
DTEND:20221025T110000Z
LOCATION:Seminar Room
SUMMARY:ICFO | KRISTIAN FRANZE
CLASS:PUBLIC
DTSTAMP:20260422T154708Z
END:VEVENT
END:VCALENDAR