BEGIN:VCALENDAR
VERSION:2.0
PRODID:Icfo
X-PUBLISHED-TTL:P1W
BEGIN:VEVENT
UID:69e9178618d1e
DTSTART:20221020T100000Z
SEQUENCE:0
TRANSP:OPAQUE
LOCATION:Seminar Room
SUMMARY:ICFO | KONRAD LEHNERT
CLASS:PUBLIC
DTSTAMP:20260422T184630Z
END:VEVENT
END:VCALENDAR