BEGIN:VCALENDAR
VERSION:2.0
PRODID:Icfo
X-PUBLISHED-TTL:P1W
BEGIN:VEVENT
UID:69e9013706267
DTSTART:20221005T100000Z
SEQUENCE:0
TRANSP:OPAQUE
DTEND:20221005T110000Z
LOCATION:BLR
SUMMARY:ICFO | JAKUB ZAKRZEWSKI 
CLASS:PUBLIC
DTSTAMP:20260422T171119Z
END:VEVENT
END:VCALENDAR