BEGIN:VCALENDAR
VERSION:2.0
PRODID:Icfo
X-PUBLISHED-TTL:P1W
BEGIN:VEVENT
UID:69e902a51845e
DTSTART:20220919T100000Z
SEQUENCE:0
TRANSP:OPAQUE
DTEND:20220919T110000Z
LOCATION:Auditorium & Online (Zoom)
SUMMARY:ICFO | ANTONIA HAMILTON
CLASS:PUBLIC
DTSTAMP:20260422T171725Z
END:VEVENT
END:VCALENDAR