BEGIN:VCALENDAR
VERSION:2.0
PRODID:Icfo
X-PUBLISHED-TTL:P1W
BEGIN:VEVENT
UID:69e8ea2306d55
DTSTART:20220712T100000Z
SEQUENCE:0
TRANSP:OPAQUE
DTEND:20220712T110000Z
LOCATION:ICFO Auditorium
SUMMARY:ICFO | MICHAEL KOZLOV
CLASS:PUBLIC
DTSTAMP:20260422T153251Z
END:VEVENT
END:VCALENDAR