BEGIN:VCALENDAR
VERSION:2.0
PRODID:Icfo
X-PUBLISHED-TTL:P1W
BEGIN:VEVENT
UID:69eb925aa6b83
DTSTART:20220331T080000Z
SEQUENCE:0
TRANSP:OPAQUE
DTEND:20220428T100000Z
LOCATION:BLR & Online (Teams)
SUMMARY:ICFO | IACOPO TORRE
CLASS:PUBLIC
DTSTAMP:20260424T155506Z
END:VEVENT
END:VCALENDAR