BEGIN:VCALENDAR
VERSION:2.0
PRODID:Icfo
X-PUBLISHED-TTL:P1W
BEGIN:VEVENT
UID:69eb7d3d5b813
DTSTART:20220316T140000Z
SEQUENCE:0
TRANSP:OPAQUE
DTEND:20220406T160000Z
LOCATION:SMR
SUMMARY:ICFO | PAU GOMÉZ
CLASS:PUBLIC
DTSTAMP:20260424T142501Z
END:VEVENT
END:VCALENDAR