BEGIN:VCALENDAR
VERSION:2.0
PRODID:Icfo
X-PUBLISHED-TTL:P1W
BEGIN:VEVENT
UID:69e9178618d3e
DTSTART:20220208T090000Z
SEQUENCE:0
TRANSP:OPAQUE
DTEND:20220208T100000Z
LOCATION:SMR
SUMMARY:ICFO | SILVIA ORTEGA-CEBRIÁN
CLASS:PUBLIC
DTSTAMP:20260422T184630Z
END:VEVENT
END:VCALENDAR