BEGIN:VCALENDAR
VERSION:2.0
PRODID:Icfo
X-PUBLISHED-TTL:P1W
BEGIN:VEVENT
UID:69eb7d399afd6
DTSTART:20220406T080000Z
SEQUENCE:0
TRANSP:OPAQUE
DTEND:20220412T100000Z
LOCATION:BLR (streaming) & Online (Zoom)
SUMMARY:ICFO | FLORIAN MARQUARDT
CLASS:PUBLIC
DTSTAMP:20260424T142457Z
END:VEVENT
END:VCALENDAR