BEGIN:VCALENDAR
VERSION:2.0
PRODID:Icfo
X-PUBLISHED-TTL:P1W
BEGIN:VEVENT
UID:69eb6e1b16890
DTSTART:20211108T141500Z
SEQUENCE:0
TRANSP:OPAQUE
DTEND:20211111T171500Z
LOCATION:Online
SUMMARY:ICFO | ICFO-UNAM-UNIANDES INTERNATIONAL SCHOOL ON THE FRONTIERS OF 
 LIGHT: Quantum Challenges
CLASS:PUBLIC
DTSTAMP:20260424T132027Z
END:VEVENT
END:VCALENDAR