BEGIN:VCALENDAR
VERSION:2.0
PRODID:Icfo
X-PUBLISHED-TTL:P1W
BEGIN:VEVENT
UID:69eb807d61eea
DTSTART:20201117T090000Z
SEQUENCE:0
TRANSP:OPAQUE
DTEND:20201117T110000Z
LOCATION:Online (Teams)
SUMMARY:ICFO | ANDREAS WINTER
CLASS:PUBLIC
DTSTAMP:20260424T143853Z
END:VEVENT
END:VCALENDAR