BEGIN:VCALENDAR
VERSION:2.0
PRODID:Icfo
X-PUBLISHED-TTL:P1W
BEGIN:VEVENT
UID:69eb809cf2401
DTSTART:20201020T080000Z
SEQUENCE:0
TRANSP:OPAQUE
DTEND:20201020T100000Z
LOCATION:Online (Teams)
SUMMARY:ICFO | VALENTIN KASPER
CLASS:PUBLIC
DTSTAMP:20260424T143924Z
END:VEVENT
END:VCALENDAR