BEGIN:VCALENDAR
VERSION:2.0
PRODID:Icfo
X-PUBLISHED-TTL:P1W
BEGIN:VEVENT
UID:69eb80b3f38da
DTSTART:20200513T073000Z
SEQUENCE:0
TRANSP:OPAQUE
DTEND:20200515T113000Z
LOCATION:Online (Teams)
SUMMARY:ICFO | JORDI ANDILLA
CLASS:PUBLIC
DTSTAMP:20260424T143948Z
END:VEVENT
END:VCALENDAR