BEGIN:VCALENDAR
VERSION:2.0
PRODID:Icfo
X-PUBLISHED-TTL:P1W
BEGIN:VEVENT
UID:69eb80c256c49
DTSTART:20200220T091500Z
SEQUENCE:0
TRANSP:OPAQUE
LOCATION:ICFO's Blue Lecture Room
SUMMARY:ICFO | JUAN JOSÉ GARCíA RIPOLL
CLASS:PUBLIC
DTSTAMP:20260424T144002Z
END:VEVENT
END:VCALENDAR